BEGIN:VCALENDAR
VERSION:2.0
PRODID:-//Library Market//iCal Export//EN
BEGIN:VEVENT
SUMMARY:Cardmaking Class
UID:7542
DTSTAMP:20260425T025200Z
DTSTART:20260903T233000Z
DTEND:20260904T013000Z
LOCATION:Homewood Public Library, 17917 Dixie Highway, Homewood, IL 60430,
  United States
ROOM: Meeting Room
DESCRIPTION:The class will teach participants to make greeting cards, (bir
 thday cards, get well, thank you, sympathy etc), learn new techniques, and
  enjoy the company of other crafters. Each participant will receive a kit 
 with all the supplies needed to complete several greeting cards along with
  step-by-step instructions. Come join us for a night of fun cardmaking wit
 h an experienced instructor!
URL:https://homewood.librarycalendar.com/event/cardmaking-class-7542
END:VEVENT
END:VCALENDAR
