BEGIN:VCALENDAR
VERSION:2.0
PRODID:-//Library Market//iCal Export//EN
BEGIN:VEVENT
SUMMARY:Summer Reading Kick Off
UID:7533
DTSTAMP:20260425T202000Z
DTSTART:20260606T050000Z
DTEND:20260606T050000Z
LOCATION:Homewood Public Library, 17917 Dixie Highway, Homewood, IL 60430,
  United States
ROOM: Meeting Room
DESCRIPTION:Join us as we kick off Summer Reading with two events!10:00amT
 -RexplorersWe&#039;re gonna learn about dinosaurs by looking at their bone
 s!1:30pmPlant SwapBring your plants to swap with others. You can learn mo
 re about summer reading at www.homewoodlibrary.org/events/2026-summer-read
 ing/ 
URL:https://homewood.librarycalendar.com/event/sr-kickoff-7533
END:VEVENT
END:VCALENDAR
